BEGIN:VCALENDAR
VERSION:2.0
PRODID:www.1c-profile.ru
METHOD:REQUEST
BEGIN:VEVENT
DTSTART:20260429T000000
DTEND:20260429T235959
SUMMARY:Вебинар &quot;Как и кому продавать 1С-Коннект?&quot;
LOCATION:Europe/Array
DESCRIPTION:Подробности мероприятия http://www.1c-profile.ru//events/vebinar-kak-i-komu-prodavat-1s-konnekt-/
UID:69eb74e9a842a
SEQUENCE:0
DTSTAMP:20260424T164929
END:VEVENT
END:VCALENDAR
