BEGIN:VCALENDAR
VERSION:2.0
PRODID:www.1c-profile.ru
METHOD:REQUEST
BEGIN:VEVENT
DTSTART:20260430T000000
DTEND:20260430T235959
SUMMARY:Вебинар &quot;1С:Франчайзи – практические рекомендации по повышению эффективности бизнес-процессов&quot;
LOCATION:Europe/Array
DESCRIPTION:Подробности мероприятия http://www.1c-profile.ru//events/vebinar-1s-franchayzi-prakticheskie-rekomendatsii-po-povysheniyu-effektivnosti-biznes-protsessov/
UID:69eccbb9bd462
SEQUENCE:0
DTSTAMP:20260425T171209
END:VEVENT
END:VCALENDAR
