BEGIN:VCALENDAR
VERSION:2.0
PRODID:www.1c-profile.ru
METHOD:REQUEST
BEGIN:VEVENT
DTSTART:20260428T000000
DTEND:20260428T235959
SUMMARY:Бесплатный онлайн-тренинг по сервису 1С-ЭПД
LOCATION:Europe/Array
DESCRIPTION:Подробности мероприятия http://www.1c-profile.ru//events/besplatnyy-onlayn-trening-po-servisu-1s-epd/
UID:69e8d1fbc4c9a
SEQUENCE:0
DTSTAMP:20260422T164947
END:VEVENT
END:VCALENDAR
